BEGIN:VCALENDAR
VERSION:2.0
PRODID:-//Club Eden - ECPv6.15.20//NONSGML v1.0//EN
CALSCALE:GREGORIAN
METHOD:PUBLISH
X-WR-CALNAME:Club Eden
X-ORIGINAL-URL:https://edenclubs.com
X-WR-CALDESC:Events for Club Eden
REFRESH-INTERVAL;VALUE=DURATION:PT1H
X-Robots-Tag:noindex
X-PUBLISHED-TTL:PT1H
BEGIN:VTIMEZONE
TZID:America/Chicago
BEGIN:DAYLIGHT
TZOFFSETFROM:-0600
TZOFFSETTO:-0500
TZNAME:CDT
DTSTART:20250309T080000
END:DAYLIGHT
BEGIN:STANDARD
TZOFFSETFROM:-0500
TZOFFSETTO:-0600
TZNAME:CST
DTSTART:20251102T070000
END:STANDARD
BEGIN:DAYLIGHT
TZOFFSETFROM:-0600
TZOFFSETTO:-0500
TZNAME:CDT
DTSTART:20260308T080000
END:DAYLIGHT
BEGIN:STANDARD
TZOFFSETFROM:-0500
TZOFFSETTO:-0600
TZNAME:CST
DTSTART:20261101T070000
END:STANDARD
BEGIN:DAYLIGHT
TZOFFSETFROM:-0600
TZOFFSETTO:-0500
TZNAME:CDT
DTSTART:20270314T080000
END:DAYLIGHT
BEGIN:STANDARD
TZOFFSETFROM:-0500
TZOFFSETTO:-0600
TZNAME:CST
DTSTART:20271107T070000
END:STANDARD
END:VTIMEZONE
BEGIN:VEVENT
DTSTART;TZID=America/Chicago:20260430T210000
DTEND;TZID=America/Chicago:20260501T010000
DTSTAMP:20260423T052358
CREATED:20260331T061158Z
LAST-MODIFIED:20260331T061158Z
UID:2466-1777582800-1777597200@edenclubs.com
SUMMARY:All Kinks Thursday
DESCRIPTION:ALL KINKS THURSDAY \nPowered by Infliction Hall \nRope*Impact*Edge*Dom/Sub/FemDom*Leather*Primal* \nLittle’s*CD/Trans*Pet*Board Games*\nCigar/Cocktail Social*Kinky Couples\nWhat’s your Kink…. \n$25 per person\n(Must be on the Fetlife guest list to enter) \n8pm – 1am
URL:https://edenclubs.com/event/all-kinks-thursday-5/
LOCATION:Club Eden San Antonio\, 4250 Thousand Oaks Drive\, San Antonio\, TX\, 78217\, United States
CATEGORIES:SATX,Thursday
ATTACH;FMTTYPE=image/jpeg:https://edenclubs.com/wp-content/uploads/2025/11/All-Kinks-Thursday-eden-sa-tv.jpg
END:VEVENT
BEGIN:VEVENT
DTSTART;TZID=America/Chicago:20260507T210000
DTEND;TZID=America/Chicago:20260508T020000
DTSTAMP:20260423T052358
CREATED:20260203T023914Z
LAST-MODIFIED:20260225T015647Z
UID:2239-1778187600-1778205600@edenclubs.com
SUMMARY:Newbie Thursday - 5th Thursday
DESCRIPTION:The perfect party to nibble around the edges \nCome mingle with other soft swap newbies in a relaxed\, no pressure\, friendly environment.
URL:https://edenclubs.com/event/newbie-thursday-3/
LOCATION:Club Eden Dallas – Fort Worth\, 11050 S Pipeline Rd #200\, Euless\, TX\, 76040\, United States
CATEGORIES:DFW,Thursday
ATTACH;FMTTYPE=image/jpeg:https://edenclubs.com/wp-content/uploads/2026/01/newbie-1thursday-eden-dfw-tv.jpg
END:VEVENT
BEGIN:VEVENT
DTSTART;TZID=America/Chicago:20260514T210000
DTEND;TZID=America/Chicago:20260515T020000
DTSTAMP:20260423T052358
CREATED:20260203T024702Z
LAST-MODIFIED:20260203T025010Z
UID:2243-1778792400-1778810400@edenclubs.com
SUMMARY:Karaoke Thursday - 2nd Thursday
DESCRIPTION:Karaoke 9:00pm-11:30pm\nThen afterwards\, sexy dance music.
URL:https://edenclubs.com/event/karaoke-thursday-2nd-thursday-3/
LOCATION:Club Eden Dallas – Fort Worth\, 11050 S Pipeline Rd #200\, Euless\, TX\, 76040\, United States
CATEGORIES:DFW,Thursday
ATTACH;FMTTYPE=image/jpeg:https://edenclubs.com/wp-content/uploads/2025/11/karaoke-thursday-eden-dfw-tv.jpg
END:VEVENT
END:VCALENDAR