BEGIN:VCALENDAR
VERSION:2.0
PRODID:-//Club Eden - ECPv6.15.20//NONSGML v1.0//EN
CALSCALE:GREGORIAN
METHOD:PUBLISH
X-WR-CALNAME:Club Eden
X-ORIGINAL-URL:https://edenclubs.com
X-WR-CALDESC:Events for Club Eden
REFRESH-INTERVAL;VALUE=DURATION:PT1H
X-Robots-Tag:noindex
X-PUBLISHED-TTL:PT1H
BEGIN:VTIMEZONE
TZID:America/Chicago
BEGIN:DAYLIGHT
TZOFFSETFROM:-0600
TZOFFSETTO:-0500
TZNAME:CDT
DTSTART:20250309T080000
END:DAYLIGHT
BEGIN:STANDARD
TZOFFSETFROM:-0500
TZOFFSETTO:-0600
TZNAME:CST
DTSTART:20251102T070000
END:STANDARD
BEGIN:DAYLIGHT
TZOFFSETFROM:-0600
TZOFFSETTO:-0500
TZNAME:CDT
DTSTART:20260308T080000
END:DAYLIGHT
BEGIN:STANDARD
TZOFFSETFROM:-0500
TZOFFSETTO:-0600
TZNAME:CST
DTSTART:20261101T070000
END:STANDARD
BEGIN:DAYLIGHT
TZOFFSETFROM:-0600
TZOFFSETTO:-0500
TZNAME:CDT
DTSTART:20270314T080000
END:DAYLIGHT
BEGIN:STANDARD
TZOFFSETFROM:-0500
TZOFFSETTO:-0600
TZNAME:CST
DTSTART:20271107T070000
END:STANDARD
END:VTIMEZONE
BEGIN:VEVENT
DTSTART;TZID=America/Chicago:20260321T210000
DTEND;TZID=America/Chicago:20260322T040000
DTSTAMP:20260423T132121
CREATED:20260228T201624Z
LAST-MODIFIED:20260228T202253Z
UID:2340-1774126800-1774152000@edenclubs.com
SUMMARY:Swing Break
DESCRIPTION:Swing Break
URL:https://edenclubs.com/event/swing-break/
LOCATION:Club Eden San Antonio\, 4250 Thousand Oaks Drive\, San Antonio\, TX\, 78217\, United States
CATEGORIES:Saturday,SATX
ATTACH;FMTTYPE=image/jpeg:https://edenclubs.com/wp-content/uploads/2026/02/032126-Swing-Break-eden-sa-tv.jpg
END:VEVENT
BEGIN:VEVENT
DTSTART;TZID=America/Chicago:20260321T210000
DTEND;TZID=America/Chicago:20260322T040000
DTSTAMP:20260423T132121
CREATED:20260228T203905Z
LAST-MODIFIED:20260228T203905Z
UID:2348-1774126800-1774152000@edenclubs.com
SUMMARY:Swing Break
DESCRIPTION:Swing Break
URL:https://edenclubs.com/event/swing-break-2/
LOCATION:Club Eden Oklahoma City\, W I44\, 2801 NW 39th St\, Oklahoma City\, OK\, 73112\, United States
CATEGORIES:OKC,Saturday
ATTACH;FMTTYPE=image/jpeg:https://edenclubs.com/wp-content/uploads/2026/02/032126-Swing-Break-eden-okc-tv.jpg
END:VEVENT
BEGIN:VEVENT
DTSTART;TZID=America/Chicago:20260321T210000
DTEND;TZID=America/Chicago:20260322T040000
DTSTAMP:20260423T132121
CREATED:20260304T221449Z
LAST-MODIFIED:20260304T221449Z
UID:2362-1774126800-1774152000@edenclubs.com
SUMMARY:Couples SwingBreak
DESCRIPTION:A multi group\, club\, hotel take over & fundraiser weekend!
URL:https://edenclubs.com/event/couples-swingbreak/
LOCATION:Club Eden Dallas – Fort Worth\, 11050 S Pipeline Rd #200\, Euless\, TX\, 76040\, United States
CATEGORIES:DFW,Saturday
ATTACH;FMTTYPE=image/jpeg:https://edenclubs.com/wp-content/uploads/2026/03/032126-Swing-Break-eden-dfw-tv-1.jpg
END:VEVENT
BEGIN:VEVENT
DTSTART;TZID=America/Chicago:20260328T210000
DTEND;TZID=America/Chicago:20260329T040000
DTSTAMP:20260423T132121
CREATED:20260228T203136Z
LAST-MODIFIED:20260228T203136Z
UID:2343-1774731600-1774756800@edenclubs.com
SUMMARY:Toga Glow Party
DESCRIPTION:TOGA GLOW \nSEXY GREEKS TOGA PARTY
URL:https://edenclubs.com/event/toga-glow-party/
LOCATION:Club Eden San Antonio\, 4250 Thousand Oaks Drive\, San Antonio\, TX\, 78217\, United States
CATEGORIES:Saturday,SATX
ATTACH;FMTTYPE=image/jpeg:https://edenclubs.com/wp-content/uploads/2026/02/032826-Toga-Glow-eden-sa-tv.jpg
END:VEVENT
BEGIN:VEVENT
DTSTART;TZID=America/Chicago:20260328T210000
DTEND;TZID=America/Chicago:20260329T040000
DTSTAMP:20260423T132121
CREATED:20260228T204200Z
LAST-MODIFIED:20260228T204403Z
UID:2352-1774731600-1774756800@edenclubs.com
SUMMARY:Toga Glow Party
DESCRIPTION:TOGA GLOW \nSEXY GREEKS TOGA PARTY
URL:https://edenclubs.com/event/toga-glow-party-2/
LOCATION:Club Eden Oklahoma City\, W I44\, 2801 NW 39th St\, Oklahoma City\, OK\, 73112\, United States
CATEGORIES:OKC,Saturday
ATTACH;FMTTYPE=image/jpeg:https://edenclubs.com/wp-content/uploads/2026/02/032826-Toga-Glow-eden-okc-tv.jpg
END:VEVENT
BEGIN:VEVENT
DTSTART;TZID=America/Chicago:20260328T210000
DTEND;TZID=America/Chicago:20260329T040000
DTSTAMP:20260423T132121
CREATED:20260304T221811Z
LAST-MODIFIED:20260304T221922Z
UID:2365-1774731600-1774756800@edenclubs.com
SUMMARY:Toga Glow Party
DESCRIPTION:TOGA GLOW \nSEXY GREEKS TOGA PARTY
URL:https://edenclubs.com/event/toga-glow-party-3/
LOCATION:Club Eden Dallas – Fort Worth\, 11050 S Pipeline Rd #200\, Euless\, TX\, 76040\, United States
CATEGORIES:DFW,Saturday
ATTACH;FMTTYPE=image/jpeg:https://edenclubs.com/wp-content/uploads/2026/03/032826-Toga-Glow-eden-dfw-tv.jpg
END:VEVENT
BEGIN:VEVENT
DTSTART;TZID=America/Chicago:20260404T210000
DTEND;TZID=America/Chicago:20260405T040000
DTSTAMP:20260423T132121
CREATED:20260317T213140Z
LAST-MODIFIED:20260317T213154Z
UID:2407-1775336400-1775361600@edenclubs.com
SUMMARY:The Playboy Bunnies & The Hefner's
DESCRIPTION:PARTY LIKE A CENTERFOLD
URL:https://edenclubs.com/event/the-playboy-bunnies-the-hefners/
LOCATION:Club Eden Dallas – Fort Worth\, 11050 S Pipeline Rd #200\, Euless\, TX\, 76040\, United States
CATEGORIES:DFW,Saturday
ATTACH;FMTTYPE=image/jpeg:https://edenclubs.com/wp-content/uploads/2026/03/040426-Playboy-Bunnies-eden-dfw-tv.jpg
END:VEVENT
BEGIN:VEVENT
DTSTART;TZID=America/Chicago:20260404T210000
DTEND;TZID=America/Chicago:20260405T040000
DTSTAMP:20260423T132121
CREATED:20260331T053430Z
LAST-MODIFIED:20260331T053454Z
UID:2434-1775336400-1775361600@edenclubs.com
SUMMARY:The Playboy Bunnies & The Hefner's
DESCRIPTION:PARTY LIKE A CENTERFOLD
URL:https://edenclubs.com/event/the-playboy-bunnies-the-hefners-2/
LOCATION:Club Eden San Antonio\, 4250 Thousand Oaks Drive\, San Antonio\, TX\, 78217\, United States
CATEGORIES:Saturday,SATX
ATTACH;FMTTYPE=image/jpeg:https://edenclubs.com/wp-content/uploads/2026/03/040426-Playboy-Bunnies-eden-sa-tv.jpg
END:VEVENT
BEGIN:VEVENT
DTSTART;TZID=America/Chicago:20260404T210000
DTEND;TZID=America/Chicago:20260405T040000
DTSTAMP:20260423T132121
CREATED:20260331T062235Z
LAST-MODIFIED:20260331T062235Z
UID:2470-1775336400-1775361600@edenclubs.com
SUMMARY:The Playboy Bunnies & The Hefner's
DESCRIPTION:PARTY LIKE A CENTERFOLD
URL:https://edenclubs.com/event/the-playboy-bunnies-the-hefners-3/
LOCATION:Club Eden Oklahoma City\, W I44\, 2801 NW 39th St\, Oklahoma City\, OK\, 73112\, United States
CATEGORIES:OKC,Saturday
ATTACH;FMTTYPE=image/jpeg:https://edenclubs.com/wp-content/uploads/2026/03/040426-Playboy-Bunnies-eden-okc-tv.jpg
END:VEVENT
BEGIN:VEVENT
DTSTART;TZID=America/Chicago:20260411T210000
DTEND;TZID=America/Chicago:20260412T040000
DTSTAMP:20260423T132121
CREATED:20260317T213339Z
LAST-MODIFIED:20260317T220029Z
UID:2409-1775941200-1775966400@edenclubs.com
SUMMARY:The Risque Rave
DESCRIPTION:Grind To The Electric Beat!
URL:https://edenclubs.com/event/the-risque-rave/
LOCATION:Club Eden Dallas – Fort Worth\, 11050 S Pipeline Rd #200\, Euless\, TX\, 76040\, United States
CATEGORIES:DFW,Saturday
ATTACH;FMTTYPE=image/jpeg:https://edenclubs.com/wp-content/uploads/2026/03/041126-Risque-Rave-eden-dfw-tv.jpg
END:VEVENT
BEGIN:VEVENT
DTSTART;TZID=America/Chicago:20260411T210000
DTEND;TZID=America/Chicago:20260412T040000
DTSTAMP:20260423T132121
CREATED:20260331T053627Z
LAST-MODIFIED:20260331T053627Z
UID:2437-1775941200-1775966400@edenclubs.com
SUMMARY:The Risque Rave
DESCRIPTION:Grind To The Electric Beat! \n\n 
URL:https://edenclubs.com/event/the-risque-rave-2/
LOCATION:Club Eden San Antonio\, 4250 Thousand Oaks Drive\, San Antonio\, TX\, 78217\, United States
CATEGORIES:Saturday,SATX
ATTACH;FMTTYPE=image/jpeg:https://edenclubs.com/wp-content/uploads/2026/03/041126-Risque-Rave-eden-sa-tv.jpg
END:VEVENT
BEGIN:VEVENT
DTSTART;TZID=America/Chicago:20260411T210000
DTEND;TZID=America/Chicago:20260412T040000
DTSTAMP:20260423T132121
CREATED:20260331T062403Z
LAST-MODIFIED:20260331T062403Z
UID:2473-1775941200-1775966400@edenclubs.com
SUMMARY:The Risque Rave
DESCRIPTION:Grind To The Electric Beat! \n\n 
URL:https://edenclubs.com/event/the-risque-rave-3/
LOCATION:Club Eden Oklahoma City\, W I44\, 2801 NW 39th St\, Oklahoma City\, OK\, 73112\, United States
CATEGORIES:OKC,Saturday
ATTACH;FMTTYPE=image/jpeg:https://edenclubs.com/wp-content/uploads/2026/03/041126-Risque-Rave-eden-okc-tv.jpg
END:VEVENT
BEGIN:VEVENT
DTSTART;TZID=America/Chicago:20260418T210000
DTEND;TZID=America/Chicago:20260419T040000
DTSTAMP:20260423T132121
CREATED:20260331T053759Z
LAST-MODIFIED:20260331T053759Z
UID:2440-1776546000-1776571200@edenclubs.com
SUMMARY:Dirty Disney
DESCRIPTION:Make your fantasy a sexy reality. \nWhat cartoon character will you be?
URL:https://edenclubs.com/event/dirty-disney/
LOCATION:Club Eden San Antonio\, 4250 Thousand Oaks Drive\, San Antonio\, TX\, 78217\, United States
CATEGORIES:Saturday,SATX
ATTACH;FMTTYPE=image/jpeg:https://edenclubs.com/wp-content/uploads/2026/03/041826-Dirty-Disney-eden-sa-tv.jpg
END:VEVENT
BEGIN:VEVENT
DTSTART;TZID=America/Chicago:20260418T210000
DTEND;TZID=America/Chicago:20260419T040000
DTSTAMP:20260423T132121
CREATED:20260331T062542Z
LAST-MODIFIED:20260331T062542Z
UID:2476-1776546000-1776571200@edenclubs.com
SUMMARY:Dirty Disney
DESCRIPTION:Make your fantasy a sexy reality. \nWhat cartoon character will you be?
URL:https://edenclubs.com/event/dirty-disney-2/
LOCATION:Club Eden Oklahoma City\, W I44\, 2801 NW 39th St\, Oklahoma City\, OK\, 73112\, United States
CATEGORIES:OKC,Saturday
ATTACH;FMTTYPE=image/jpeg:https://edenclubs.com/wp-content/uploads/2026/03/041826-Dirty-Disney-eden-okc-tv.jpg
END:VEVENT
BEGIN:VEVENT
DTSTART;TZID=America/Chicago:20260418T210000
DTEND;TZID=America/Chicago:20260419T040000
DTSTAMP:20260423T132121
CREATED:20260331T201642Z
LAST-MODIFIED:20260331T201642Z
UID:2502-1776546000-1776571200@edenclubs.com
SUMMARY:Dirty Disney
DESCRIPTION:Make your fantasy a sexy reality. \nWhat cartoon character will you be?
URL:https://edenclubs.com/event/dirty-disney-3/
LOCATION:Club Eden Dallas – Fort Worth\, 11050 S Pipeline Rd #200\, Euless\, TX\, 76040\, United States
CATEGORIES:DFW,Saturday
ATTACH;FMTTYPE=image/jpeg:https://edenclubs.com/wp-content/uploads/2026/03/041826-Dirty-Disney-eden-dfw-tv.jpg
END:VEVENT
BEGIN:VEVENT
DTSTART;TZID=America/Chicago:20260425T210000
DTEND;TZID=America/Chicago:20260426T040000
DTSTAMP:20260423T132121
CREATED:20260331T053949Z
LAST-MODIFIED:20260331T054014Z
UID:2443-1777150800-1777176000@edenclubs.com
SUMMARY:Hot Wife Party
DESCRIPTION:Cum Show Her Off!
URL:https://edenclubs.com/event/hot-wife-party/
LOCATION:Club Eden San Antonio\, 4250 Thousand Oaks Drive\, San Antonio\, TX\, 78217\, United States
CATEGORIES:Saturday,SATX
ATTACH;FMTTYPE=image/jpeg:https://edenclubs.com/wp-content/uploads/2026/03/042526-Hot-Wife-eden-sa-tv.jpg
END:VEVENT
BEGIN:VEVENT
DTSTART;TZID=America/Chicago:20260425T210000
DTEND;TZID=America/Chicago:20260426T040000
DTSTAMP:20260423T132121
CREATED:20260331T062657Z
LAST-MODIFIED:20260331T062657Z
UID:2479-1777150800-1777176000@edenclubs.com
SUMMARY:Hot Wife
DESCRIPTION:Cum Show Her Off!
URL:https://edenclubs.com/event/hot-wife/
LOCATION:Club Eden Oklahoma City\, W I44\, 2801 NW 39th St\, Oklahoma City\, OK\, 73112\, United States
CATEGORIES:OKC,Saturday
ATTACH;FMTTYPE=image/jpeg:https://edenclubs.com/wp-content/uploads/2026/03/042526-Hot-Wife-eden-okc-tv.jpg
END:VEVENT
BEGIN:VEVENT
DTSTART;TZID=America/Chicago:20260425T210000
DTEND;TZID=America/Chicago:20260426T040000
DTSTAMP:20260423T132121
CREATED:20260331T202330Z
LAST-MODIFIED:20260331T202330Z
UID:2504-1777150800-1777176000@edenclubs.com
SUMMARY:Hot Wife
DESCRIPTION:Cum Show Her Off!
URL:https://edenclubs.com/event/hot-wife-2/
LOCATION:Club Eden Dallas – Fort Worth\, 11050 S Pipeline Rd #200\, Euless\, TX\, 76040\, United States
CATEGORIES:DFW,Saturday
ATTACH;FMTTYPE=image/jpeg:https://edenclubs.com/wp-content/uploads/2026/03/042526-Hot-Wife-eden-dfw-tv.jpg
END:VEVENT
BEGIN:VEVENT
DTSTART;TZID=America/Chicago:20260502T210000
DTEND;TZID=America/Chicago:20260503T040000
DTSTAMP:20260423T132121
CREATED:20260331T054332Z
LAST-MODIFIED:20260331T054400Z
UID:2446-1777755600-1777780800@edenclubs.com
SUMMARY:Cool Cats & Pin Up Dolls
DESCRIPTION:Cool Cats \n& \nPin Up Dolls
URL:https://edenclubs.com/event/cool-cats-pin-up-dolls/
LOCATION:Club Eden San Antonio\, 4250 Thousand Oaks Drive\, San Antonio\, TX\, 78217\, United States
CATEGORIES:Saturday,SATX
ATTACH;FMTTYPE=image/jpeg:https://edenclubs.com/wp-content/uploads/2026/03/050226-Cool-Cats-Pin-Ups-eden-sa-tv.jpg
END:VEVENT
BEGIN:VEVENT
DTSTART;TZID=America/Chicago:20260502T210000
DTEND;TZID=America/Chicago:20260503T040000
DTSTAMP:20260423T132121
CREATED:20260331T062831Z
LAST-MODIFIED:20260331T062844Z
UID:2482-1777755600-1777780800@edenclubs.com
SUMMARY:Cool Cats & Pin UP Dolls
DESCRIPTION:Cool Cats & Pin UP Dolls
URL:https://edenclubs.com/event/cool-cats-pin-up-dolls-2/
LOCATION:Club Eden Oklahoma City\, W I44\, 2801 NW 39th St\, Oklahoma City\, OK\, 73112\, United States
CATEGORIES:OKC,Saturday
ATTACH;FMTTYPE=image/jpeg:https://edenclubs.com/wp-content/uploads/2026/03/050226-Cool-Cats-Pin-Ups-eden-okc-tv.jpg
END:VEVENT
BEGIN:VEVENT
DTSTART;TZID=America/Chicago:20260502T210000
DTEND;TZID=America/Chicago:20260503T040000
DTSTAMP:20260423T132121
CREATED:20260331T204058Z
LAST-MODIFIED:20260331T204202Z
UID:2512-1777755600-1777780800@edenclubs.com
SUMMARY:Cool Cats & Pin Up Dolls
DESCRIPTION:Cool Cats \n& \nPin Up Dolls
URL:https://edenclubs.com/event/cool-cats-pin-up-dolls-3/
LOCATION:Club Eden Dallas – Fort Worth\, 11050 S Pipeline Rd #200\, Euless\, TX\, 76040\, United States
CATEGORIES:DFW,Saturday
ATTACH;FMTTYPE=image/jpeg:https://edenclubs.com/wp-content/uploads/2026/03/050226-Cool-Cats-Pin-Ups-eden-dfw-tv.jpg
END:VEVENT
BEGIN:VEVENT
DTSTART;TZID=America/Chicago:20260509T210000
DTEND;TZID=America/Chicago:20260510T040000
DTSTAMP:20260423T132121
CREATED:20260331T054524Z
LAST-MODIFIED:20260331T054524Z
UID:2449-1778360400-1778385600@edenclubs.com
SUMMARY:A.T.G (Anything that Glows)
DESCRIPTION:A.T.G. \nAnything That Glows!
URL:https://edenclubs.com/event/a-t-g-anything-that-glows/
LOCATION:Club Eden San Antonio\, 4250 Thousand Oaks Drive\, San Antonio\, TX\, 78217\, United States
CATEGORIES:Saturday,SATX
ATTACH;FMTTYPE=image/jpeg:https://edenclubs.com/wp-content/uploads/2026/03/050926-ATG-Glow-eden-sa-tv.jpg
END:VEVENT
BEGIN:VEVENT
DTSTART;TZID=America/Chicago:20260509T210000
DTEND;TZID=America/Chicago:20260510T040000
DTSTAMP:20260423T132121
CREATED:20260331T062945Z
LAST-MODIFIED:20260331T062945Z
UID:2486-1778360400-1778385600@edenclubs.com
SUMMARY:A.T.G (Anything That Glows)
DESCRIPTION:A.T.G (Anything That Glows)
URL:https://edenclubs.com/event/a-t-g-anything-that-glows-2/
LOCATION:Club Eden Oklahoma City\, W I44\, 2801 NW 39th St\, Oklahoma City\, OK\, 73112\, United States
CATEGORIES:OKC,Saturday
ATTACH;FMTTYPE=image/jpeg:https://edenclubs.com/wp-content/uploads/2026/03/050926-ATG-Glow-eden-okc-tv.jpg
END:VEVENT
BEGIN:VEVENT
DTSTART;TZID=America/Chicago:20260509T210000
DTEND;TZID=America/Chicago:20260510T040000
DTSTAMP:20260423T132121
CREATED:20260331T202755Z
LAST-MODIFIED:20260331T202755Z
UID:2506-1778360400-1778385600@edenclubs.com
SUMMARY:A.T.G (Anything That Glows)
DESCRIPTION:A.T.G (Anything That Glows)
URL:https://edenclubs.com/event/a-t-g-anything-that-glows-3/
LOCATION:Club Eden Dallas – Fort Worth\, 11050 S Pipeline Rd #200\, Euless\, TX\, 76040\, United States
CATEGORIES:DFW,Saturday
ATTACH;FMTTYPE=image/jpeg:https://edenclubs.com/wp-content/uploads/2026/03/050926-ATG-Glow-eden-dfw-tv.jpg
END:VEVENT
BEGIN:VEVENT
DTSTART;TZID=America/Chicago:20260516T080000
DTEND;TZID=America/Chicago:20260517T170000
DTSTAMP:20260423T132121
CREATED:20260331T063052Z
LAST-MODIFIED:20260331T063052Z
UID:2489-1778918400-1779037200@edenclubs.com
SUMMARY:Bad Ass Bitches & Bikers
DESCRIPTION:Bad Ass Bitches & Bikers
URL:https://edenclubs.com/event/bad-ass-bitches-bikers-2/
LOCATION:Club Eden Oklahoma City\, W I44\, 2801 NW 39th St\, Oklahoma City\, OK\, 73112\, United States
CATEGORIES:OKC,Saturday
ATTACH;FMTTYPE=image/jpeg:https://edenclubs.com/wp-content/uploads/2026/03/051626-Bad-Ass-Bikes-eden-okc-tv.jpg
END:VEVENT
BEGIN:VEVENT
DTSTART;TZID=America/Chicago:20260516T210000
DTEND;TZID=America/Chicago:20260517T040000
DTSTAMP:20260423T132121
CREATED:20260331T054651Z
LAST-MODIFIED:20260331T054725Z
UID:2452-1778965200-1778990400@edenclubs.com
SUMMARY:Bad Ass Bitches & Bikers
DESCRIPTION:BAD ASS BITCHES & BIKERS
URL:https://edenclubs.com/event/bad-ass-bitches-bikers/
LOCATION:Club Eden San Antonio\, 4250 Thousand Oaks Drive\, San Antonio\, TX\, 78217\, United States
CATEGORIES:Saturday,SATX
ATTACH;FMTTYPE=image/jpeg:https://edenclubs.com/wp-content/uploads/2026/03/051626-Bad-Ass-Bikes-eden-sa-tv.jpg
END:VEVENT
BEGIN:VEVENT
DTSTART;TZID=America/Chicago:20260516T210000
DTEND;TZID=America/Chicago:20260517T040000
DTSTAMP:20260423T132121
CREATED:20260331T203942Z
LAST-MODIFIED:20260331T204502Z
UID:2509-1778965200-1778990400@edenclubs.com
SUMMARY:Bad Ass Bitches & Bikers
DESCRIPTION:Bad Ass Bitches & Bikers
URL:https://edenclubs.com/event/bad-ass-bitches-bikers-3/
LOCATION:Club Eden Dallas – Fort Worth\, 11050 S Pipeline Rd #200\, Euless\, TX\, 76040\, United States
CATEGORIES:DFW,Saturday
ATTACH;FMTTYPE=image/jpeg:https://edenclubs.com/wp-content/uploads/2026/03/051626-Bad-Ass-Bikes-eden-dfw-tv.jpg
END:VEVENT
BEGIN:VEVENT
DTSTART;TZID=America/Chicago:20260523T210000
DTEND;TZID=America/Chicago:20260524T040000
DTSTAMP:20260423T132121
CREATED:20260331T054833Z
LAST-MODIFIED:20260331T054833Z
UID:2455-1779570000-1779595200@edenclubs.com
SUMMARY:Sexy Cowgirls & Outlaws
DESCRIPTION:Sexy Cowgirls & Outlaws
URL:https://edenclubs.com/event/sexy-cowgirls-outlaws-2/
LOCATION:Club Eden San Antonio\, 4250 Thousand Oaks Drive\, San Antonio\, TX\, 78217\, United States
CATEGORIES:Saturday,SATX
ATTACH;FMTTYPE=image/jpeg:https://edenclubs.com/wp-content/uploads/2026/03/052326-Cowgirls-Outlaws-eden-sa-tv.jpg
END:VEVENT
BEGIN:VEVENT
DTSTART;TZID=America/Chicago:20260523T210000
DTEND;TZID=America/Chicago:20260524T040000
DTSTAMP:20260423T132121
CREATED:20260331T063156Z
LAST-MODIFIED:20260331T063156Z
UID:2492-1779570000-1779595200@edenclubs.com
SUMMARY:Sexy Cowgirls & Outlaws
DESCRIPTION:Sexy Cowgirls & Outlaws
URL:https://edenclubs.com/event/sexy-cowgirls-outlaws-3/
LOCATION:Club Eden Oklahoma City\, W I44\, 2801 NW 39th St\, Oklahoma City\, OK\, 73112\, United States
CATEGORIES:OKC,Saturday
ATTACH;FMTTYPE=image/jpeg:https://edenclubs.com/wp-content/uploads/2026/03/052326-Cowgirls-Outlaws-eden-okc-tv.jpg
END:VEVENT
END:VCALENDAR