BEGIN:VCALENDAR
VERSION:2.0
PRODID:-//Club Eden - ECPv6.15.20//NONSGML v1.0//EN
CALSCALE:GREGORIAN
METHOD:PUBLISH
X-WR-CALNAME:Club Eden
X-ORIGINAL-URL:https://edenclubs.com
X-WR-CALDESC:Events for Club Eden
REFRESH-INTERVAL;VALUE=DURATION:PT1H
X-Robots-Tag:noindex
X-PUBLISHED-TTL:PT1H
BEGIN:VTIMEZONE
TZID:America/Chicago
BEGIN:DAYLIGHT
TZOFFSETFROM:-0600
TZOFFSETTO:-0500
TZNAME:CDT
DTSTART:20250309T080000
END:DAYLIGHT
BEGIN:STANDARD
TZOFFSETFROM:-0500
TZOFFSETTO:-0600
TZNAME:CST
DTSTART:20251102T070000
END:STANDARD
BEGIN:DAYLIGHT
TZOFFSETFROM:-0600
TZOFFSETTO:-0500
TZNAME:CDT
DTSTART:20260308T080000
END:DAYLIGHT
BEGIN:STANDARD
TZOFFSETFROM:-0500
TZOFFSETTO:-0600
TZNAME:CST
DTSTART:20261101T070000
END:STANDARD
BEGIN:DAYLIGHT
TZOFFSETFROM:-0600
TZOFFSETTO:-0500
TZNAME:CDT
DTSTART:20270314T080000
END:DAYLIGHT
BEGIN:STANDARD
TZOFFSETFROM:-0500
TZOFFSETTO:-0600
TZNAME:CST
DTSTART:20271107T070000
END:STANDARD
END:VTIMEZONE
BEGIN:VEVENT
DTSTART;TZID=America/Chicago:20260418T210000
DTEND;TZID=America/Chicago:20260419T040000
DTSTAMP:20260423T053134
CREATED:20260331T053759Z
LAST-MODIFIED:20260331T053759Z
UID:2440-1776546000-1776571200@edenclubs.com
SUMMARY:Dirty Disney
DESCRIPTION:Make your fantasy a sexy reality. \nWhat cartoon character will you be?
URL:https://edenclubs.com/event/dirty-disney/
LOCATION:Club Eden San Antonio\, 4250 Thousand Oaks Drive\, San Antonio\, TX\, 78217\, United States
CATEGORIES:Saturday,SATX
ATTACH;FMTTYPE=image/jpeg:https://edenclubs.com/wp-content/uploads/2026/03/041826-Dirty-Disney-eden-sa-tv.jpg
END:VEVENT
BEGIN:VEVENT
DTSTART;TZID=America/Chicago:20260418T210000
DTEND;TZID=America/Chicago:20260419T040000
DTSTAMP:20260423T053134
CREATED:20260331T062542Z
LAST-MODIFIED:20260331T062542Z
UID:2476-1776546000-1776571200@edenclubs.com
SUMMARY:Dirty Disney
DESCRIPTION:Make your fantasy a sexy reality. \nWhat cartoon character will you be?
URL:https://edenclubs.com/event/dirty-disney-2/
LOCATION:Club Eden Oklahoma City\, W I44\, 2801 NW 39th St\, Oklahoma City\, OK\, 73112\, United States
CATEGORIES:OKC,Saturday
ATTACH;FMTTYPE=image/jpeg:https://edenclubs.com/wp-content/uploads/2026/03/041826-Dirty-Disney-eden-okc-tv.jpg
END:VEVENT
BEGIN:VEVENT
DTSTART;TZID=America/Chicago:20260418T210000
DTEND;TZID=America/Chicago:20260419T040000
DTSTAMP:20260423T053134
CREATED:20260331T201642Z
LAST-MODIFIED:20260331T201642Z
UID:2502-1776546000-1776571200@edenclubs.com
SUMMARY:Dirty Disney
DESCRIPTION:Make your fantasy a sexy reality. \nWhat cartoon character will you be?
URL:https://edenclubs.com/event/dirty-disney-3/
LOCATION:Club Eden Dallas – Fort Worth\, 11050 S Pipeline Rd #200\, Euless\, TX\, 76040\, United States
CATEGORIES:DFW,Saturday
ATTACH;FMTTYPE=image/jpeg:https://edenclubs.com/wp-content/uploads/2026/03/041826-Dirty-Disney-eden-dfw-tv.jpg
END:VEVENT
END:VCALENDAR