BEGIN:VCALENDAR
VERSION:2.0
PRODID:-//Club Eden - ECPv6.15.20//NONSGML v1.0//EN
CALSCALE:GREGORIAN
METHOD:PUBLISH
X-WR-CALNAME:Club Eden
X-ORIGINAL-URL:https://edenclubs.com
X-WR-CALDESC:Events for Club Eden
REFRESH-INTERVAL;VALUE=DURATION:PT1H
X-Robots-Tag:noindex
X-PUBLISHED-TTL:PT1H
BEGIN:VTIMEZONE
TZID:America/Chicago
BEGIN:DAYLIGHT
TZOFFSETFROM:-0600
TZOFFSETTO:-0500
TZNAME:CDT
DTSTART:20250309T080000
END:DAYLIGHT
BEGIN:STANDARD
TZOFFSETFROM:-0500
TZOFFSETTO:-0600
TZNAME:CST
DTSTART:20251102T070000
END:STANDARD
BEGIN:DAYLIGHT
TZOFFSETFROM:-0600
TZOFFSETTO:-0500
TZNAME:CDT
DTSTART:20260308T080000
END:DAYLIGHT
BEGIN:STANDARD
TZOFFSETFROM:-0500
TZOFFSETTO:-0600
TZNAME:CST
DTSTART:20261101T070000
END:STANDARD
BEGIN:DAYLIGHT
TZOFFSETFROM:-0600
TZOFFSETTO:-0500
TZNAME:CDT
DTSTART:20270314T080000
END:DAYLIGHT
BEGIN:STANDARD
TZOFFSETFROM:-0500
TZOFFSETTO:-0600
TZNAME:CST
DTSTART:20271107T070000
END:STANDARD
END:VTIMEZONE
BEGIN:VEVENT
DTSTART;TZID=America/Chicago:20260314T210000
DTEND;TZID=America/Chicago:20260315T040000
DTSTAMP:20260423T070757
CREATED:20260228T200915Z
LAST-MODIFIED:20260228T200915Z
UID:2334-1773522000-1773547200@edenclubs.com
SUMMARY:St. Patty's Bash
DESCRIPTION:ST. Pattys Bash \nSaturday March 14th \n\nGET YOUR GREEN ON!
URL:https://edenclubs.com/event/st-pattys-bash/
LOCATION:Club Eden San Antonio\, 4250 Thousand Oaks Drive\, San Antonio\, TX\, 78217\, United States
CATEGORIES:Saturday,SATX
ATTACH;FMTTYPE=image/jpeg:https://edenclubs.com/wp-content/uploads/2026/02/ClubEden_1920x1080_14mar2026-1.jpg
END:VEVENT
BEGIN:VEVENT
DTSTART;TZID=America/Chicago:20260314T210000
DTEND;TZID=America/Chicago:20260315T040000
DTSTAMP:20260423T070757
CREATED:20260228T203625Z
LAST-MODIFIED:20260228T203625Z
UID:2346-1773522000-1773547200@edenclubs.com
SUMMARY:St. Patty's Bash
DESCRIPTION:ST. Pattys Bash \nSaturday March 14th \n\nGET YOUR GREEN ON!
URL:https://edenclubs.com/event/st-pattys-bash-2/
LOCATION:Club Eden Oklahoma City\, W I44\, 2801 NW 39th St\, Oklahoma City\, OK\, 73112\, United States
CATEGORIES:OKC,Saturday
ATTACH;FMTTYPE=image/jpeg:https://edenclubs.com/wp-content/uploads/2026/02/ClubEden_1920x1080_14mar2026.jpg
END:VEVENT
BEGIN:VEVENT
DTSTART;TZID=America/Chicago:20260314T210000
DTEND;TZID=America/Chicago:20260315T040000
DTSTAMP:20260423T070757
CREATED:20260304T222140Z
LAST-MODIFIED:20260304T222202Z
UID:2368-1773522000-1773547200@edenclubs.com
SUMMARY:St. Patty's Bash
DESCRIPTION:ST. Pattys Bash \nGET YOUR GREEN ON!
URL:https://edenclubs.com/event/st-pattys-bash-3/
LOCATION:Club Eden Dallas – Fort Worth\, 11050 S Pipeline Rd #200\, Euless\, TX\, 76040\, United States
CATEGORIES:DFW,Saturday
ATTACH;FMTTYPE=image/jpeg:https://edenclubs.com/wp-content/uploads/2026/02/ClubEden_1920x1080_14mar2026-1.jpg
END:VEVENT
END:VCALENDAR