BEGIN:VCALENDAR
VERSION:2.0
PRODID:-//Club Eden - ECPv6.15.20//NONSGML v1.0//EN
CALSCALE:GREGORIAN
METHOD:PUBLISH
X-ORIGINAL-URL:https://edenclubs.com
X-WR-CALDESC:Events for Club Eden
REFRESH-INTERVAL;VALUE=DURATION:PT1H
X-Robots-Tag:noindex
X-PUBLISHED-TTL:PT1H
BEGIN:VTIMEZONE
TZID:America/Chicago
BEGIN:DAYLIGHT
TZOFFSETFROM:-0600
TZOFFSETTO:-0500
TZNAME:CDT
DTSTART:20250309T080000
END:DAYLIGHT
BEGIN:STANDARD
TZOFFSETFROM:-0500
TZOFFSETTO:-0600
TZNAME:CST
DTSTART:20251102T070000
END:STANDARD
BEGIN:DAYLIGHT
TZOFFSETFROM:-0600
TZOFFSETTO:-0500
TZNAME:CDT
DTSTART:20260308T080000
END:DAYLIGHT
BEGIN:STANDARD
TZOFFSETFROM:-0500
TZOFFSETTO:-0600
TZNAME:CST
DTSTART:20261101T070000
END:STANDARD
BEGIN:DAYLIGHT
TZOFFSETFROM:-0600
TZOFFSETTO:-0500
TZNAME:CDT
DTSTART:20270314T080000
END:DAYLIGHT
BEGIN:STANDARD
TZOFFSETFROM:-0500
TZOFFSETTO:-0600
TZNAME:CST
DTSTART:20271107T070000
END:STANDARD
END:VTIMEZONE
BEGIN:VEVENT
DTSTART;TZID=America/Chicago:20260110T210000
DTEND;TZID=America/Chicago:20260111T040000
DTSTAMP:20260423T100353
CREATED:20251223T004054Z
LAST-MODIFIED:20251223T004125Z
UID:1533-1768078800-1768104000@edenclubs.com
SUMMARY:Miami Hustle
DESCRIPTION:Miami Hustle
URL:https://edenclubs.com/event/miami-hustle/
LOCATION:Club Eden Oklahoma City\, W I44\, 2801 NW 39th St\, Oklahoma City\, OK\, 73112\, United States
CATEGORIES:OKC,Saturday
ATTACH;FMTTYPE=image/jpeg:https://edenclubs.com/wp-content/uploads/2025/12/okc-miami-12-10-2026.jpg
END:VEVENT
BEGIN:VEVENT
DTSTART;TZID=America/Chicago:20260110T210000
DTEND;TZID=America/Chicago:20260111T040000
DTSTAMP:20260423T100353
CREATED:20251223T004347Z
LAST-MODIFIED:20251223T004724Z
UID:1535-1768078800-1768104000@edenclubs.com
SUMMARY:Miami Hustle
DESCRIPTION:Pimps. Hoes. Cops and Cartels
URL:https://edenclubs.com/event/miami-hustle-2/
LOCATION:Club Eden San Antonio\, 4250 Thousand Oaks Drive\, San Antonio\, TX\, 78217\, United States
CATEGORIES:Saturday,SATX
ATTACH;FMTTYPE=image/jpeg:https://edenclubs.com/wp-content/uploads/2025/12/satx-miami-152-10-2026.jpg
END:VEVENT
BEGIN:VEVENT
DTSTART;TZID=America/Chicago:20260110T210000
DTEND;TZID=America/Chicago:20260111T040000
DTSTAMP:20260423T100353
CREATED:20251223T010033Z
LAST-MODIFIED:20251223T010035Z
UID:1538-1768078800-1768104000@edenclubs.com
SUMMARY:Miami Hustle
DESCRIPTION:Pimps. Hoes. Cops and Cartels.
URL:https://edenclubs.com/event/miami-hustle-3/
LOCATION:Club Eden Dallas – Fort Worth\, 11050 S Pipeline Rd #200\, Euless\, TX\, 76040\, United States
CATEGORIES:DFW,Saturday
ATTACH;FMTTYPE=image/jpeg:https://edenclubs.com/wp-content/uploads/2025/12/dfw-miami-12-10-2026.jpg
END:VEVENT
END:VCALENDAR