BEGIN:VCALENDAR
VERSION:2.0
PRODID:-//Club Eden - ECPv6.15.20//NONSGML v1.0//EN
CALSCALE:GREGORIAN
METHOD:PUBLISH
X-ORIGINAL-URL:https://edenclubs.com
X-WR-CALDESC:Events for Club Eden
REFRESH-INTERVAL;VALUE=DURATION:PT1H
X-Robots-Tag:noindex
X-PUBLISHED-TTL:PT1H
BEGIN:VTIMEZONE
TZID:America/Chicago
BEGIN:DAYLIGHT
TZOFFSETFROM:-0600
TZOFFSETTO:-0500
TZNAME:CDT
DTSTART:20240310T080000
END:DAYLIGHT
BEGIN:STANDARD
TZOFFSETFROM:-0500
TZOFFSETTO:-0600
TZNAME:CST
DTSTART:20241103T070000
END:STANDARD
BEGIN:DAYLIGHT
TZOFFSETFROM:-0600
TZOFFSETTO:-0500
TZNAME:CDT
DTSTART:20250309T080000
END:DAYLIGHT
BEGIN:STANDARD
TZOFFSETFROM:-0500
TZOFFSETTO:-0600
TZNAME:CST
DTSTART:20251102T070000
END:STANDARD
BEGIN:DAYLIGHT
TZOFFSETFROM:-0600
TZOFFSETTO:-0500
TZNAME:CDT
DTSTART:20260308T080000
END:DAYLIGHT
BEGIN:STANDARD
TZOFFSETFROM:-0500
TZOFFSETTO:-0600
TZNAME:CST
DTSTART:20261101T070000
END:STANDARD
END:VTIMEZONE
BEGIN:VEVENT
DTSTART;TZID=America/Chicago:20251227T210000
DTEND;TZID=America/Chicago:20251228T030000
DTSTAMP:20260423T113614
CREATED:20251219T215811Z
LAST-MODIFIED:20251219T215910Z
UID:1489-1766869200-1766890800@edenclubs.com
SUMMARY:CUM AS U R
DESCRIPTION:CUM AS U R
URL:https://edenclubs.com/event/cum-as-u-r-2/
LOCATION:Club Eden Oklahoma City\, W I44\, 2801 NW 39th St\, Oklahoma City\, OK\, 73112\, United States
CATEGORIES:OKC,Saturday
ATTACH;FMTTYPE=image/jpeg:https://edenclubs.com/wp-content/uploads/2025/11/122725-Cum-As-U-R-eden-okc-tv.jpg
END:VEVENT
BEGIN:VEVENT
DTSTART;TZID=America/Chicago:20251227T210000
DTEND;TZID=America/Chicago:20251228T030000
DTSTAMP:20260423T113614
CREATED:20251219T220145Z
LAST-MODIFIED:20251223T134313Z
UID:1491-1766869200-1766890800@edenclubs.com
SUMMARY:CUM AS U R
DESCRIPTION:CUM AS U R
URL:https://edenclubs.com/event/cum-as-u-r-3/
LOCATION:Club Eden Dallas – Fort Worth\, 11050 S Pipeline Rd #200\, Euless\, TX\, 76040\, United States
CATEGORIES:DFW,Saturday
ATTACH;FMTTYPE=image/jpeg:https://edenclubs.com/wp-content/uploads/2025/12/CUMASUR-DFW.jpg
END:VEVENT
BEGIN:VEVENT
DTSTART;TZID=America/Chicago:20251227T210000
DTEND;TZID=America/Chicago:20251228T040000
DTSTAMP:20260423T113614
CREATED:20251114T032756Z
LAST-MODIFIED:20251219T215846Z
UID:553-1766869200-1766894400@edenclubs.com
SUMMARY:CUM AS U R
DESCRIPTION:Cum as U R
URL:https://edenclubs.com/event/cum-as-u-r/
LOCATION:Club Eden San Antonio\, 4250 Thousand Oaks Drive\, San Antonio\, TX\, 78217\, United States
CATEGORIES:Saturday,SATX
ATTACH;FMTTYPE=image/jpeg:https://edenclubs.com/wp-content/uploads/2025/11/122725-Cum-As-U-R-eden-sa-tv.jpg
END:VEVENT
END:VCALENDAR