BEGIN:VCALENDAR
VERSION:2.0
PRODID:-//Club Eden - ECPv6.15.20//NONSGML v1.0//EN
CALSCALE:GREGORIAN
METHOD:PUBLISH
X-WR-CALNAME:Club Eden
X-ORIGINAL-URL:https://edenclubs.com
X-WR-CALDESC:Events for Club Eden
REFRESH-INTERVAL;VALUE=DURATION:PT1H
X-Robots-Tag:noindex
X-PUBLISHED-TTL:PT1H
BEGIN:VTIMEZONE
TZID:America/Chicago
BEGIN:DAYLIGHT
TZOFFSETFROM:-0600
TZOFFSETTO:-0500
TZNAME:CDT
DTSTART:20240310T080000
END:DAYLIGHT
BEGIN:STANDARD
TZOFFSETFROM:-0500
TZOFFSETTO:-0600
TZNAME:CST
DTSTART:20241103T070000
END:STANDARD
BEGIN:DAYLIGHT
TZOFFSETFROM:-0600
TZOFFSETTO:-0500
TZNAME:CDT
DTSTART:20250309T080000
END:DAYLIGHT
BEGIN:STANDARD
TZOFFSETFROM:-0500
TZOFFSETTO:-0600
TZNAME:CST
DTSTART:20251102T070000
END:STANDARD
BEGIN:DAYLIGHT
TZOFFSETFROM:-0600
TZOFFSETTO:-0500
TZNAME:CDT
DTSTART:20260308T080000
END:DAYLIGHT
BEGIN:STANDARD
TZOFFSETFROM:-0500
TZOFFSETTO:-0600
TZNAME:CST
DTSTART:20261101T070000
END:STANDARD
END:VTIMEZONE
BEGIN:VEVENT
DTSTART;TZID=America/Chicago:20251213T210000
DTEND;TZID=America/Chicago:20251214T040000
DTSTAMP:20260423T112258
CREATED:20251114T032450Z
LAST-MODIFIED:20251114T080709Z
UID:549-1765659600-1765684800@edenclubs.com
SUMMARY:Naughty Schoolgirl Holiday Prom
DESCRIPTION:Prom night never felt so naughty!
URL:https://edenclubs.com/event/naughty-schoolgirl-holiday-prom/
LOCATION:Club Eden Dallas – Fort Worth\, 11050 S Pipeline Rd #200\, Euless\, TX\, 76040\, United States
CATEGORIES:Saturday
ATTACH;FMTTYPE=image/jpeg:https://edenclubs.com/wp-content/uploads/2025/11/121325-Naughty-Holiday-Prom-eden-dfw-tv.jpg
END:VEVENT
BEGIN:VEVENT
DTSTART;TZID=America/Chicago:20251213T210000
DTEND;TZID=America/Chicago:20251214T040000
DTSTAMP:20260423T112258
CREATED:20251114T062651Z
LAST-MODIFIED:20251114T074522Z
UID:618-1765659600-1765684800@edenclubs.com
SUMMARY:Naughty School Girl Holiday Prom
DESCRIPTION:
URL:https://edenclubs.com/event/naughty-school-girl-holiday-prom/
LOCATION:Club Eden Oklahoma City\, W I44\, 2801 NW 39th St\, Oklahoma City\, OK\, 73112\, United States
CATEGORIES:Saturday
ATTACH;FMTTYPE=image/jpeg:https://edenclubs.com/wp-content/uploads/2025/11/121325-Naughty-Holiday-Prom-eden-okc-tv.jpg
END:VEVENT
BEGIN:VEVENT
DTSTART;TZID=America/Chicago:20251213T210000
DTEND;TZID=America/Chicago:20251214T040000
DTSTAMP:20260423T112258
CREATED:20251114T062651Z
LAST-MODIFIED:20251114T074542Z
UID:619-1765659600-1765684800@edenclubs.com
SUMMARY:Naughty School Girl Holiday Prom
DESCRIPTION:
URL:https://edenclubs.com/event/naughty-school-girl-holiday-prom-2/
LOCATION:Club Eden San Antonio\, 4250 Thousand Oaks Drive\, San Antonio\, TX\, 78217\, United States
CATEGORIES:Saturday
ATTACH;FMTTYPE=image/jpeg:https://edenclubs.com/wp-content/uploads/2025/11/121325-Naughty-Holiday-Prom-eden-sa-tv.jpg
END:VEVENT
END:VCALENDAR