BEGIN:VCALENDAR
VERSION:2.0
PRODID:-//Club Eden - ECPv6.15.20//NONSGML v1.0//EN
CALSCALE:GREGORIAN
METHOD:PUBLISH
X-WR-CALNAME:Club Eden
X-ORIGINAL-URL:https://edenclubs.com
X-WR-CALDESC:Events for Club Eden
REFRESH-INTERVAL;VALUE=DURATION:PT1H
X-Robots-Tag:noindex
X-PUBLISHED-TTL:PT1H
BEGIN:VTIMEZONE
TZID:America/Chicago
BEGIN:DAYLIGHT
TZOFFSETFROM:-0600
TZOFFSETTO:-0500
TZNAME:CDT
DTSTART:20240310T080000
END:DAYLIGHT
BEGIN:STANDARD
TZOFFSETFROM:-0500
TZOFFSETTO:-0600
TZNAME:CST
DTSTART:20241103T070000
END:STANDARD
BEGIN:DAYLIGHT
TZOFFSETFROM:-0600
TZOFFSETTO:-0500
TZNAME:CDT
DTSTART:20250309T080000
END:DAYLIGHT
BEGIN:STANDARD
TZOFFSETFROM:-0500
TZOFFSETTO:-0600
TZNAME:CST
DTSTART:20251102T070000
END:STANDARD
BEGIN:DAYLIGHT
TZOFFSETFROM:-0600
TZOFFSETTO:-0500
TZNAME:CDT
DTSTART:20260308T080000
END:DAYLIGHT
BEGIN:STANDARD
TZOFFSETFROM:-0500
TZOFFSETTO:-0600
TZNAME:CST
DTSTART:20261101T070000
END:STANDARD
END:VTIMEZONE
BEGIN:VEVENT
DTSTART;TZID=America/Chicago:20251129T210000
DTEND;TZID=America/Chicago:20251130T040000
DTSTAMP:20260423T125930
CREATED:20251113T044635Z
LAST-MODIFIED:20251114T081646Z
UID:457-1764450000-1764475200@edenclubs.com
SUMMARY:20 Year Lifestyle Reunion
DESCRIPTION:Old Friends. New Faces. Endless Possibilities. Who will you meet?
URL:https://edenclubs.com/event/20-year-lifestyle-reunion/
LOCATION:Club Eden Oklahoma City\, W I44\, 2801 NW 39th St\, Oklahoma City\, OK\, 73112\, United States
CATEGORIES:Saturday
ATTACH;FMTTYPE=image/jpeg:https://edenclubs.com/wp-content/uploads/2025/11/112925-20-Year-eden-okc-tv.jpg
END:VEVENT
BEGIN:VEVENT
DTSTART;TZID=America/Chicago:20251129T210000
DTEND;TZID=America/Chicago:20251130T040000
DTSTAMP:20260423T125930
CREATED:20251114T081618Z
LAST-MODIFIED:20251114T081618Z
UID:731-1764450000-1764475200@edenclubs.com
SUMMARY:20 Year Lifestyle Reunion
DESCRIPTION:Old Friends. New Faces. Endless Possibilities. Who will you meet?
URL:https://edenclubs.com/event/20-year-lifestyle-reunion-2/
LOCATION:TX
CATEGORIES:Saturday
ATTACH;FMTTYPE=image/jpeg:https://edenclubs.com/wp-content/uploads/2025/11/112925-20-Year-eden-dfw-tv.jpg
END:VEVENT
END:VCALENDAR