BEGIN:VCALENDAR
VERSION:2.0
PRODID:-//Club Eden - ECPv6.15.20//NONSGML v1.0//EN
CALSCALE:GREGORIAN
METHOD:PUBLISH
X-ORIGINAL-URL:https://edenclubs.com
X-WR-CALDESC:Events for Club Eden
REFRESH-INTERVAL;VALUE=DURATION:PT1H
X-Robots-Tag:noindex
X-PUBLISHED-TTL:PT1H
BEGIN:VTIMEZONE
TZID:America/Chicago
BEGIN:DAYLIGHT
TZOFFSETFROM:-0600
TZOFFSETTO:-0500
TZNAME:CDT
DTSTART:20240310T080000
END:DAYLIGHT
BEGIN:STANDARD
TZOFFSETFROM:-0500
TZOFFSETTO:-0600
TZNAME:CST
DTSTART:20241103T070000
END:STANDARD
BEGIN:DAYLIGHT
TZOFFSETFROM:-0600
TZOFFSETTO:-0500
TZNAME:CDT
DTSTART:20250309T080000
END:DAYLIGHT
BEGIN:STANDARD
TZOFFSETFROM:-0500
TZOFFSETTO:-0600
TZNAME:CST
DTSTART:20251102T070000
END:STANDARD
BEGIN:DAYLIGHT
TZOFFSETFROM:-0600
TZOFFSETTO:-0500
TZNAME:CDT
DTSTART:20260308T080000
END:DAYLIGHT
BEGIN:STANDARD
TZOFFSETFROM:-0500
TZOFFSETTO:-0600
TZNAME:CST
DTSTART:20261101T070000
END:STANDARD
END:VTIMEZONE
BEGIN:VEVENT
DTSTART;TZID=America/Chicago:20251122T210000
DTEND;TZID=America/Chicago:20251123T040000
DTSTAMP:20260423T130300
CREATED:20251113T044452Z
LAST-MODIFIED:20251114T062550Z
UID:454-1763845200-1763870400@edenclubs.com
SUMMARY:Sexy Secret Cosplay
DESCRIPTION:Be someone that suits you better!
URL:https://edenclubs.com/event/sexy-secret-cosplay/
LOCATION:Club Eden San Antonio\, 4250 Thousand Oaks Drive\, San Antonio\, TX\, 78217\, United States
CATEGORIES:Saturday
ATTACH;FMTTYPE=image/jpeg:https://edenclubs.com/wp-content/uploads/2025/11/112225-Erotic-Cosplay-eden-dfw-tv.jpg
END:VEVENT
BEGIN:VEVENT
DTSTART;TZID=America/Chicago:20251122T210000
DTEND;TZID=America/Chicago:20251123T040000
DTSTAMP:20260423T130300
CREATED:20251114T081900Z
LAST-MODIFIED:20251114T082249Z
UID:733-1763845200-1763870400@edenclubs.com
SUMMARY:Sexy Secret Cosplay
DESCRIPTION:Be someone that suits you better!
URL:https://edenclubs.com/event/sexy-secret-cosplay-2/
LOCATION:Club Eden Dallas – Fort Worth\, 11050 S Pipeline Rd #200\, Euless\, TX\, 76040\, United States
CATEGORIES:Saturday
ATTACH;FMTTYPE=image/jpeg:https://edenclubs.com/wp-content/uploads/2025/11/112225-Erotic-Cosplay-eden-dfw-tv.jpg
END:VEVENT
END:VCALENDAR