BEGIN:VCALENDAR
VERSION:2.0
PRODID:-//Club Eden - ECPv6.15.20//NONSGML v1.0//EN
CALSCALE:GREGORIAN
METHOD:PUBLISH
X-WR-CALNAME:Club Eden
X-ORIGINAL-URL:https://edenclubs.com
X-WR-CALDESC:Events for Club Eden
REFRESH-INTERVAL;VALUE=DURATION:PT1H
X-Robots-Tag:noindex
X-PUBLISHED-TTL:PT1H
BEGIN:VTIMEZONE
TZID:America/Chicago
BEGIN:DAYLIGHT
TZOFFSETFROM:-0600
TZOFFSETTO:-0500
TZNAME:CDT
DTSTART:20250309T080000
END:DAYLIGHT
BEGIN:STANDARD
TZOFFSETFROM:-0500
TZOFFSETTO:-0600
TZNAME:CST
DTSTART:20251102T070000
END:STANDARD
BEGIN:DAYLIGHT
TZOFFSETFROM:-0600
TZOFFSETTO:-0500
TZNAME:CDT
DTSTART:20260308T080000
END:DAYLIGHT
BEGIN:STANDARD
TZOFFSETFROM:-0500
TZOFFSETTO:-0600
TZNAME:CST
DTSTART:20261101T070000
END:STANDARD
BEGIN:DAYLIGHT
TZOFFSETFROM:-0600
TZOFFSETTO:-0500
TZNAME:CDT
DTSTART:20270314T080000
END:DAYLIGHT
BEGIN:STANDARD
TZOFFSETFROM:-0500
TZOFFSETTO:-0600
TZNAME:CST
DTSTART:20271107T070000
END:STANDARD
END:VTIMEZONE
BEGIN:VEVENT
DTSTART;TZID=America/Chicago:20260313T210000
DTEND;TZID=America/Chicago:20260314T030000
DTSTAMP:20260423T143624
CREATED:20260202T212948Z
LAST-MODIFIED:20260304T222710Z
UID:2194-1773435600-1773457200@edenclubs.com
SUMMARY:Sybian Friday - 2nd Friday
DESCRIPTION:You know you are curious!
URL:https://edenclubs.com/event/sybian-friday-2nd-friday/
LOCATION:Club Eden Dallas – Fort Worth\, 11050 S Pipeline Rd #200\, Euless\, TX\, 76040\, United States
CATEGORIES:DFW,Friday
ATTACH;FMTTYPE=image/jpeg:https://edenclubs.com/wp-content/uploads/2026/02/sybian-friday-eden-dfw-tv.jpg
END:VEVENT
BEGIN:VEVENT
DTSTART;TZID=America/Chicago:20260320T210000
DTEND;TZID=America/Chicago:20260321T030000
DTSTAMP:20260423T143624
CREATED:20251114T062551Z
LAST-MODIFIED:20260304T222843Z
UID:602-1774040400-1774062000@edenclubs.com
SUMMARY:G-String Friday - 3rd Friday
DESCRIPTION:Ladies\, come show off your sexy ass sporting a g-string!
URL:https://edenclubs.com/event/g-string-friday/
LOCATION:Club Eden Dallas – Fort Worth\, 11050 S Pipeline Rd #200\, Euless\, TX\, 76040\, United States
CATEGORIES:DFW,Friday
ATTACH;FMTTYPE=image/jpeg:https://edenclubs.com/wp-content/uploads/2025/11/g-string-fri-eden-dfw-tv.jpg
END:VEVENT
BEGIN:VEVENT
DTSTART;TZID=America/Chicago:20260327T210000
DTEND;TZID=America/Chicago:20260328T040000
DTSTAMP:20260423T143624
CREATED:20251114T033608Z
LAST-MODIFIED:20260304T223119Z
UID:563-1774645200-1774670400@edenclubs.com
SUMMARY:PolyGlamorous - 4th Friday
DESCRIPTION:Poly Triad $75
URL:https://edenclubs.com/event/polyglamorous-friday/
LOCATION:Club Eden Dallas – Fort Worth\, 11050 S Pipeline Rd #200\, Euless\, TX\, 76040\, United States
CATEGORIES:DFW,Friday
ATTACH;FMTTYPE=image/jpeg:https://edenclubs.com/wp-content/uploads/2025/11/Poly-Friday-eden-dfw-tv.jpg
END:VEVENT
BEGIN:VEVENT
DTSTART;TZID=America/Chicago:20260403T210000
DTEND;TZID=America/Chicago:20260404T030000
DTSTAMP:20260423T143624
CREATED:20260225T030114Z
LAST-MODIFIED:20260331T063448Z
UID:2324-1775250000-1775271600@edenclubs.com
SUMMARY:Play More Party
DESCRIPTION:Play More \nPARTY \nMeet – Mingle – Play \nWho’s DTF?
URL:https://edenclubs.com/event/play-more-party-5/
LOCATION:Club Eden Oklahoma City\, W I44\, 2801 NW 39th St\, Oklahoma City\, OK\, 73112\, United States
CATEGORIES:Friday,OKC
ATTACH;FMTTYPE=image/jpeg:https://edenclubs.com/wp-content/uploads/2026/02/Playmore-eden-okc-tv.jpg
END:VEVENT
BEGIN:VEVENT
DTSTART;TZID=America/Chicago:20260403T210000
DTEND;TZID=America/Chicago:20260404T030000
DTSTAMP:20260423T143624
CREATED:20260228T200117Z
LAST-MODIFIED:20260331T060558Z
UID:2331-1775250000-1775271600@edenclubs.com
SUMMARY:Topless Friday - 1st Friday
DESCRIPTION:TOPLESS Friday \nShow no BRA at the door and non-members receive $5 off
URL:https://edenclubs.com/event/topless-friday-4/
LOCATION:Club Eden San Antonio\, 4250 Thousand Oaks Drive\, San Antonio\, TX\, 78217\, United States
CATEGORIES:Friday,SATX
ATTACH;FMTTYPE=image/jpeg:https://edenclubs.com/wp-content/uploads/2025/11/topless-friday-eden-sa-tv.jpg
END:VEVENT
BEGIN:VEVENT
DTSTART;TZID=America/Chicago:20260403T210000
DTEND;TZID=America/Chicago:20260404T040000
DTSTAMP:20260423T143624
CREATED:20260203T025658Z
LAST-MODIFIED:20260304T223626Z
UID:2254-1775250000-1775275200@edenclubs.com
SUMMARY:Topless Friday - 1st Friday
DESCRIPTION:Ladies! Non-members wear no bra and get $5 off admission
URL:https://edenclubs.com/event/topless-friday-1st-friday-2/
LOCATION:Club Eden Dallas – Fort Worth\, 11050 S Pipeline Rd #200\, Euless\, TX\, 76040\, United States
CATEGORIES:DFW,Friday
ATTACH;FMTTYPE=image/jpeg:https://edenclubs.com/wp-content/uploads/2025/11/topless-friday-eden-dfw-tv.jpg
END:VEVENT
BEGIN:VEVENT
DTSTART;TZID=America/Chicago:20260410T210000
DTEND;TZID=America/Chicago:20260411T030000
DTSTAMP:20260423T143624
CREATED:20251114T062550Z
LAST-MODIFIED:20260331T055224Z
UID:596-1775854800-1775876400@edenclubs.com
SUMMARY:Sybian Friday - 2nd Friday
DESCRIPTION:You know your curious…
URL:https://edenclubs.com/event/sybian-friday-3/
LOCATION:Club Eden San Antonio\, 4250 Thousand Oaks Drive\, San Antonio\, TX\, 78217\, United States
CATEGORIES:Friday,SATX
ATTACH;FMTTYPE=image/jpeg:https://edenclubs.com/wp-content/uploads/2025/11/sybian-friday-eden-sa-tv.jpg
END:VEVENT
BEGIN:VEVENT
DTSTART;TZID=America/Chicago:20260410T210000
DTEND;TZID=America/Chicago:20260411T030000
DTSTAMP:20260423T143624
CREATED:20251114T062651Z
LAST-MODIFIED:20260331T063519Z
UID:615-1775854800-1775876400@edenclubs.com
SUMMARY:Sybian Friday - 2nd Friday
DESCRIPTION:You know you are curious!
URL:https://edenclubs.com/event/sybian-friday-4/
LOCATION:Club Eden Oklahoma City\, W I44\, 2801 NW 39th St\, Oklahoma City\, OK\, 73112\, United States
CATEGORIES:Friday,OKC
ATTACH;FMTTYPE=image/jpeg:https://edenclubs.com/wp-content/uploads/2025/11/sybian-friday-eden-okc-tv.jpg
END:VEVENT
BEGIN:VEVENT
DTSTART;TZID=America/Chicago:20260410T210000
DTEND;TZID=America/Chicago:20260411T040000
DTSTAMP:20260423T143624
CREATED:20260304T224054Z
LAST-MODIFIED:20260304T224110Z
UID:2370-1775854800-1775880000@edenclubs.com
SUMMARY:Sybian Friday - 2nd Friday
DESCRIPTION:You know you are curious!
URL:https://edenclubs.com/event/sybian-friday-2nd-friday-2/
LOCATION:Club Eden Dallas – Fort Worth\, 11050 S Pipeline Rd #200\, Euless\, TX\, 76040\, United States
CATEGORIES:DFW,Friday
ATTACH;FMTTYPE=image/jpeg:https://edenclubs.com/wp-content/uploads/2026/02/sybian-friday-eden-dfw-tv.jpg
END:VEVENT
BEGIN:VEVENT
DTSTART;TZID=America/Chicago:20260417T210000
DTEND;TZID=America/Chicago:20260418T030000
DTSTAMP:20260423T143624
CREATED:20251114T062551Z
LAST-MODIFIED:20260331T063551Z
UID:603-1776459600-1776481200@edenclubs.com
SUMMARY:Fetish Friday - 3rd Friday
DESCRIPTION:Experience your fantasy + unleash your fetish!
URL:https://edenclubs.com/event/fetish-friday/
LOCATION:Club Eden Oklahoma City\, W I44\, 2801 NW 39th St\, Oklahoma City\, OK\, 73112\, United States
CATEGORIES:Friday,OKC
ATTACH;FMTTYPE=image/jpeg:https://edenclubs.com/wp-content/uploads/2025/11/fetish-fri-eden-okc-tv.jpg
END:VEVENT
BEGIN:VEVENT
DTSTART;TZID=America/Chicago:20260417T210000
DTEND;TZID=America/Chicago:20260418T030000
DTSTAMP:20260423T143624
CREATED:20251114T062706Z
LAST-MODIFIED:20260304T224259Z
UID:623-1776459600-1776481200@edenclubs.com
SUMMARY:G-String Friday - 3rd Friday
DESCRIPTION:Ladies come show off your sexy ass sporting a g-string!
URL:https://edenclubs.com/event/g-string-friday-2/
LOCATION:Club Eden Dallas – Fort Worth\, 11050 S Pipeline Rd #200\, Euless\, TX\, 76040\, United States
CATEGORIES:DFW,Friday
ATTACH;FMTTYPE=image/jpeg:https://edenclubs.com/wp-content/uploads/2025/11/g-string-fri-eden-dfw-tv-1.jpg
END:VEVENT
BEGIN:VEVENT
DTSTART;TZID=America/Chicago:20260417T210000
DTEND;TZID=America/Chicago:20260418T030000
DTSTAMP:20260423T143624
CREATED:20260228T201342Z
LAST-MODIFIED:20260331T055446Z
UID:2337-1776459600-1776481200@edenclubs.com
SUMMARY:Latin Lovers - 3rd Friday
DESCRIPTION:LATIN LOVERS \nEXPERIENCE THE LATIN VIBE
URL:https://edenclubs.com/event/latin-lovers/
LOCATION:Club Eden San Antonio\, 4250 Thousand Oaks Drive\, San Antonio\, TX\, 78217\, United States
CATEGORIES:Friday,SATX
ATTACH;FMTTYPE=image/jpeg:https://edenclubs.com/wp-content/uploads/2026/02/latin-lovers-eden-sa-tv.jpg
END:VEVENT
BEGIN:VEVENT
DTSTART;TZID=America/Chicago:20260424T210000
DTEND;TZID=America/Chicago:20260425T030000
DTSTAMP:20260423T143624
CREATED:20251114T062550Z
LAST-MODIFIED:20260331T055716Z
UID:598-1777064400-1777086000@edenclubs.com
SUMMARY:Poly Glamorous - 4th Friday
DESCRIPTION:Poly triads are $75
URL:https://edenclubs.com/event/poly-glamorous-friday-2/
LOCATION:Club Eden San Antonio\, 4250 Thousand Oaks Drive\, San Antonio\, TX\, 78217\, United States
CATEGORIES:Friday,SATX
ATTACH;FMTTYPE=image/jpeg:https://edenclubs.com/wp-content/uploads/2025/11/Poly-Friday-eden-sa-tv.jpg
END:VEVENT
BEGIN:VEVENT
DTSTART;TZID=America/Chicago:20260424T210000
DTEND;TZID=America/Chicago:20260425T030000
DTSTAMP:20260423T143624
CREATED:20251114T062721Z
LAST-MODIFIED:20260331T063619Z
UID:628-1777064400-1777086000@edenclubs.com
SUMMARY:Poly Glamorous - 4th Friday
DESCRIPTION:Poly triads $75
URL:https://edenclubs.com/event/poly-glamorous-friday-3/
LOCATION:Club Eden Oklahoma City\, W I44\, 2801 NW 39th St\, Oklahoma City\, OK\, 73112\, United States
CATEGORIES:Friday,OKC
ATTACH;FMTTYPE=image/jpeg:https://edenclubs.com/wp-content/uploads/2025/11/Poly-Friday-eden-okc-tv.jpg
END:VEVENT
BEGIN:VEVENT
DTSTART;TZID=America/Chicago:20260424T210000
DTEND;TZID=America/Chicago:20260425T030000
DTSTAMP:20260423T143624
CREATED:20260119T031432Z
LAST-MODIFIED:20260304T224651Z
UID:2074-1777064400-1777086000@edenclubs.com
SUMMARY:Poly Glamorous - 4th Friday
DESCRIPTION:Poly triads $75
URL:https://edenclubs.com/event/poly-glamorous-friday-5/
LOCATION:Club Eden Dallas – Fort Worth\, 11050 S Pipeline Rd #200\, Euless\, TX\, 76040\, United States
CATEGORIES:DFW,Friday
ATTACH;FMTTYPE=image/jpeg:https://edenclubs.com/wp-content/uploads/2025/11/Poly-Friday-eden-dfw-tv.jpg
END:VEVENT
BEGIN:VEVENT
DTSTART;TZID=America/Chicago:20260501T210000
DTEND;TZID=America/Chicago:20260502T030000
DTSTAMP:20260423T143624
CREATED:20251114T062621Z
LAST-MODIFIED:20260331T055815Z
UID:608-1777669200-1777690800@edenclubs.com
SUMMARY:Topless Friday - 1st Friday
DESCRIPTION:Show no BRA at the door and non-members receive $5 off
URL:https://edenclubs.com/event/topless-friday-2/
LOCATION:Club Eden San Antonio\, 4250 Thousand Oaks Drive\, San Antonio\, TX\, 78217\, United States
CATEGORIES:Friday,SATX
ATTACH;FMTTYPE=image/jpeg:https://edenclubs.com/wp-content/uploads/2025/11/topless-friday-eden-sa-tv.jpg
END:VEVENT
BEGIN:VEVENT
DTSTART;TZID=America/Chicago:20260508T210000
DTEND;TZID=America/Chicago:20260509T030000
DTSTAMP:20260423T143624
CREATED:20251114T062651Z
LAST-MODIFIED:20260331T055330Z
UID:616-1778274000-1778295600@edenclubs.com
SUMMARY:Sybian Friday - 2nd Friday
DESCRIPTION:You know your curious…
URL:https://edenclubs.com/event/sybian-friday-5/
LOCATION:Club Eden San Antonio\, 4250 Thousand Oaks Drive\, San Antonio\, TX\, 78217\, United States
CATEGORIES:Friday,SATX
ATTACH;FMTTYPE=image/jpeg:https://edenclubs.com/wp-content/uploads/2025/11/sybian-friday-eden-sa-tv.jpg
END:VEVENT
BEGIN:VEVENT
DTSTART;TZID=America/Chicago:20260515T210000
DTEND;TZID=America/Chicago:20260516T040000
DTSTAMP:20260423T143624
CREATED:20260331T060036Z
LAST-MODIFIED:20260331T060036Z
UID:2459-1778878800-1778904000@edenclubs.com
SUMMARY:Latin Lovers - 3rd Friday
DESCRIPTION:LATIN LOVERS \nEXPERIENCE THE LATIN VIBE
URL:https://edenclubs.com/event/latin-lovers-3rd-friday/
LOCATION:Club Eden San Antonio\, 4250 Thousand Oaks Drive\, San Antonio\, TX\, 78217\, United States
CATEGORIES:Friday,SATX
ATTACH;FMTTYPE=image/jpeg:https://edenclubs.com/wp-content/uploads/2026/02/latin-lovers-eden-sa-tv.jpg
END:VEVENT
BEGIN:VEVENT
DTSTART;TZID=America/Chicago:20260522T210000
DTEND;TZID=America/Chicago:20260523T030000
DTSTAMP:20260423T143624
CREATED:20251114T062721Z
LAST-MODIFIED:20260331T060231Z
UID:629-1779483600-1779505200@edenclubs.com
SUMMARY:Poly Glamorous - 4th Friday
DESCRIPTION:Poly Triads $75!
URL:https://edenclubs.com/event/poly-glamorous-friday-4/
LOCATION:Club Eden San Antonio\, 4250 Thousand Oaks Drive\, San Antonio\, TX\, 78217\, United States
CATEGORIES:Friday,SATX
ATTACH;FMTTYPE=image/jpeg:https://edenclubs.com/wp-content/uploads/2025/11/Poly-Friday-eden-sa-tv.jpg
END:VEVENT
BEGIN:VEVENT
DTSTART;TZID=America/Chicago:20260529T210000
DTEND;TZID=America/Chicago:20260530T030000
DTSTAMP:20260423T143624
CREATED:20260118T151612Z
LAST-MODIFIED:20260331T060352Z
UID:1950-1780088400-1780110000@edenclubs.com
SUMMARY:Glow Crazy - 5th Friday
DESCRIPTION:Let’s GLOW CRAZY FRIDAY
URL:https://edenclubs.com/event/glow-crazy-friday-2/
LOCATION:Club Eden San Antonio\, 4250 Thousand Oaks Drive\, San Antonio\, TX\, 78217\, United States
CATEGORIES:Friday,SATX
ATTACH;FMTTYPE=image/jpeg:https://edenclubs.com/wp-content/uploads/2026/01/Glow-Crazy-Friday-eden-sa-tv.jpg
END:VEVENT
BEGIN:VEVENT
DTSTART;TZID=America/Chicago:20260605T210000
DTEND;TZID=America/Chicago:20260606T030000
DTSTAMP:20260423T143624
CREATED:20260331T060710Z
LAST-MODIFIED:20260331T060710Z
UID:2463-1780693200-1780714800@edenclubs.com
SUMMARY:Topless Friday - 1st Friday
DESCRIPTION:Show no BRA at the door and non-members receive $5 off
URL:https://edenclubs.com/event/topless-friday-1st-friday-6/
LOCATION:Club Eden San Antonio\, 4250 Thousand Oaks Drive\, San Antonio\, TX\, 78217\, United States
CATEGORIES:Friday,SATX
ATTACH;FMTTYPE=image/jpeg:https://edenclubs.com/wp-content/uploads/2025/11/topless-friday-eden-sa-tv.jpg
END:VEVENT
END:VCALENDAR