BEGIN:VCALENDAR
VERSION:2.0
PRODID:-//Club Eden - ECPv6.15.20//NONSGML v1.0//EN
CALSCALE:GREGORIAN
METHOD:PUBLISH
X-ORIGINAL-URL:https://edenclubs.com
X-WR-CALDESC:Events for Club Eden
REFRESH-INTERVAL;VALUE=DURATION:PT1H
X-Robots-Tag:noindex
X-PUBLISHED-TTL:PT1H
BEGIN:VTIMEZONE
TZID:America/Chicago
BEGIN:DAYLIGHT
TZOFFSETFROM:-0600
TZOFFSETTO:-0500
TZNAME:CDT
DTSTART:20250309T080000
END:DAYLIGHT
BEGIN:STANDARD
TZOFFSETFROM:-0500
TZOFFSETTO:-0600
TZNAME:CST
DTSTART:20251102T070000
END:STANDARD
BEGIN:DAYLIGHT
TZOFFSETFROM:-0600
TZOFFSETTO:-0500
TZNAME:CDT
DTSTART:20260308T080000
END:DAYLIGHT
BEGIN:STANDARD
TZOFFSETFROM:-0500
TZOFFSETTO:-0600
TZNAME:CST
DTSTART:20261101T070000
END:STANDARD
BEGIN:DAYLIGHT
TZOFFSETFROM:-0600
TZOFFSETTO:-0500
TZNAME:CDT
DTSTART:20270314T080000
END:DAYLIGHT
BEGIN:STANDARD
TZOFFSETFROM:-0500
TZOFFSETTO:-0600
TZNAME:CST
DTSTART:20271107T070000
END:STANDARD
END:VTIMEZONE
BEGIN:VEVENT
DTSTART;TZID=America/Chicago:20260202T210000
DTEND;TZID=America/Chicago:20260202T210000
DTSTAMP:20260423T094420
CREATED:20260203T025701Z
LAST-MODIFIED:20260203T030006Z
UID:2255-1770066000-1770066000@edenclubs.com
SUMMARY:Topless Friday - 1st Friday
DESCRIPTION:Ladies! Non-members wear no bra and get $5 off admission
URL:https://edenclubs.com/event/topless-friday-1st-friday-3/
LOCATION:Club Eden Dallas – Fort Worth\, 11050 S Pipeline Rd #200\, Euless\, TX\, 76040\, United States
CATEGORIES:DFW,Friday
ATTACH;FMTTYPE=image/jpeg:https://edenclubs.com/wp-content/uploads/2025/11/topless-friday-eden-dfw-tv.jpg
END:VEVENT
BEGIN:VEVENT
DTSTART;TZID=America/Chicago:20260202T210000
DTEND;TZID=America/Chicago:20260202T210000
DTSTAMP:20260423T094420
CREATED:20260203T025702Z
LAST-MODIFIED:20260203T030015Z
UID:2256-1770066000-1770066000@edenclubs.com
SUMMARY:Topless Friday - 1st Friday
DESCRIPTION:Ladies! Non-members wear no bra and get $5 off admission
URL:https://edenclubs.com/event/topless-friday-1st-friday-4/
LOCATION:Club Eden Dallas – Fort Worth\, 11050 S Pipeline Rd #200\, Euless\, TX\, 76040\, United States
CATEGORIES:DFW,Friday
ATTACH;FMTTYPE=image/jpeg:https://edenclubs.com/wp-content/uploads/2025/11/topless-friday-eden-dfw-tv.jpg
END:VEVENT
BEGIN:VEVENT
DTSTART;TZID=America/Chicago:20260202T210000
DTEND;TZID=America/Chicago:20260202T210000
DTSTAMP:20260423T094420
CREATED:20260203T025705Z
LAST-MODIFIED:20260203T030022Z
UID:2257-1770066000-1770066000@edenclubs.com
SUMMARY:Topless Friday - 1st Friday
DESCRIPTION:Ladies! Non-members wear no bra and get $5 off admission
URL:https://edenclubs.com/event/topless-friday-1st-friday-5-2/
LOCATION:Club Eden Dallas – Fort Worth\, 11050 S Pipeline Rd #200\, Euless\, TX\, 76040\, United States
CATEGORIES:DFW,Friday
ATTACH;FMTTYPE=image/jpeg:https://edenclubs.com/wp-content/uploads/2025/11/topless-friday-eden-dfw-tv.jpg
END:VEVENT
BEGIN:VEVENT
DTSTART;TZID=America/Chicago:20260202T210000
DTEND;TZID=America/Chicago:20260202T210000
DTSTAMP:20260423T094420
CREATED:20260203T025705Z
LAST-MODIFIED:20260203T030029Z
UID:2258-1770066000-1770066000@edenclubs.com
SUMMARY:Topless Friday - 1st Friday
DESCRIPTION:Ladies! Non-members wear no bra and get $5 off admission
URL:https://edenclubs.com/event/topless-friday-1st-friday-5/
LOCATION:Club Eden Dallas – Fort Worth\, 11050 S Pipeline Rd #200\, Euless\, TX\, 76040\, United States
CATEGORIES:DFW,Friday
ATTACH;FMTTYPE=image/jpeg:https://edenclubs.com/wp-content/uploads/2025/11/topless-friday-eden-dfw-tv.jpg
END:VEVENT
BEGIN:VEVENT
DTSTART;TZID=America/Chicago:20260206T210000
DTEND;TZID=America/Chicago:20260207T030000
DTSTAMP:20260423T094420
CREATED:20251114T033207Z
LAST-MODIFIED:20260202T223616Z
UID:557-1770411600-1770433200@edenclubs.com
SUMMARY:Topless Friday - 1st Friday
DESCRIPTION:Ladies! Non-members wear no bra and get $5 off admission
URL:https://edenclubs.com/event/topless-friday/
LOCATION:Club Eden Dallas – Fort Worth\, 11050 S Pipeline Rd #200\, Euless\, TX\, 76040\, United States
CATEGORIES:DFW,Friday
ATTACH;FMTTYPE=image/jpeg:https://edenclubs.com/wp-content/uploads/2025/11/topless-friday-eden-dfw-tv.jpg
END:VEVENT
BEGIN:VEVENT
DTSTART;TZID=America/Chicago:20260206T210000
DTEND;TZID=America/Chicago:20260207T030000
DTSTAMP:20260423T094420
CREATED:20251114T062621Z
LAST-MODIFIED:20260202T222638Z
UID:609-1770411600-1770433200@edenclubs.com
SUMMARY:Swingles Friday - 1st Friday
DESCRIPTION:Meet – Mingle – Play
URL:https://edenclubs.com/event/swingles-friday/
LOCATION:Club Eden Oklahoma City\, W I44\, 2801 NW 39th St\, Oklahoma City\, OK\, 73112\, United States
CATEGORIES:Friday,OKC
ATTACH;FMTTYPE=image/jpeg:https://edenclubs.com/wp-content/uploads/2025/11/swingles-friday-eden-okc-tv.jpg
END:VEVENT
BEGIN:VEVENT
DTSTART;TZID=America/Chicago:20260220T210000
DTEND;TZID=America/Chicago:20260221T030000
DTSTAMP:20260423T094420
CREATED:20251114T062706Z
LAST-MODIFIED:20260202T222856Z
UID:624-1771621200-1771642800@edenclubs.com
SUMMARY:Fetish Friday - 3rd Friday
DESCRIPTION:Experience your fantasy\nUnleash your fetish!
URL:https://edenclubs.com/event/fetish-friday-2/
LOCATION:Club Eden Oklahoma City\, W I44\, 2801 NW 39th St\, Oklahoma City\, OK\, 73112\, United States
CATEGORIES:Friday,OKC
ATTACH;FMTTYPE=image/jpeg:https://edenclubs.com/wp-content/uploads/2025/11/fetish-fri-eden-okc-tv.jpg
END:VEVENT
BEGIN:VEVENT
DTSTART;TZID=America/Chicago:20260220T210000
DTEND;TZID=America/Chicago:20260221T030000
DTSTAMP:20260423T094420
CREATED:20251223T011221Z
LAST-MODIFIED:20260202T224141Z
UID:1545-1771621200-1771642800@edenclubs.com
SUMMARY:G-String Friday - 3rd Friday
DESCRIPTION:Ladies\, come show off your sexy ass sporting a g-string!
URL:https://edenclubs.com/event/g-string-friday-3/
LOCATION:Club Eden San Antonio\, 4250 Thousand Oaks Drive\, San Antonio\, TX\, 78217\, United States
CATEGORIES:Friday,SATX
ATTACH;FMTTYPE=image/jpeg:https://edenclubs.com/wp-content/uploads/2025/11/g-string-fri-eden-sa-tv.jpg
END:VEVENT
BEGIN:VEVENT
DTSTART;TZID=America/Chicago:20260227T210000
DTEND;TZID=America/Chicago:20260228T030000
DTSTAMP:20260423T094420
CREATED:20260119T031251Z
LAST-MODIFIED:20260202T222954Z
UID:2072-1772226000-1772247600@edenclubs.com
SUMMARY:Poly Glamorous - 4th Friday
DESCRIPTION:Poly triads $75
URL:https://edenclubs.com/event/poly-glamorous-friday/
LOCATION:Club Eden Oklahoma City\, W I44\, 2801 NW 39th St\, Oklahoma City\, OK\, 73112\, United States
CATEGORIES:Friday,OKC
ATTACH;FMTTYPE=image/jpeg:https://edenclubs.com/wp-content/uploads/2025/11/Poly-Friday-eden-okc-tv.jpg
END:VEVENT
END:VCALENDAR